BEGIN:VCALENDAR
VERSION:2.0
PRODID:-//jEvents 2.0 for Joomla//EN
CALSCALE:GREGORIAN
METHOD:PUBLISH
BEGIN:VTIMEZONE
TZID:America/Los_Angeles
BEGIN:STANDARD
DTSTART:20181210T130000
RDATE:20190310T030000
TZOFFSETFROM:-0700
TZOFFSETTO:-0800
TZNAME:America/Los_Angeles PST
END:STANDARD
BEGIN:STANDARD
DTSTART:20191103T010000
RDATE:20200308T030000
TZOFFSETFROM:-0700
TZOFFSETTO:-0800
TZNAME:America/Los_Angeles PST
END:STANDARD
BEGIN:STANDARD
DTSTART:20201101T010000
RDATE:20210314T030000
TZOFFSETFROM:-0700
TZOFFSETTO:-0800
TZNAME:America/Los_Angeles PST
END:STANDARD
BEGIN:STANDARD
DTSTART:20211107T010000
RDATE:20220313T030000
TZOFFSETFROM:-0700
TZOFFSETTO:-0800
TZNAME:America/Los_Angeles PST
END:STANDARD
BEGIN:STANDARD
DTSTART:20221106T010000
RDATE:20230312T030000
TZOFFSETFROM:-0700
TZOFFSETTO:-0800
TZNAME:America/Los_Angeles PST
END:STANDARD
BEGIN:STANDARD
DTSTART:20231105T010000
RDATE:20240310T030000
TZOFFSETFROM:-0700
TZOFFSETTO:-0800
TZNAME:America/Los_Angeles PST
END:STANDARD
BEGIN:STANDARD
DTSTART:20241103T010000
RDATE:20250309T030000
TZOFFSETFROM:-0700
TZOFFSETTO:-0800
TZNAME:America/Los_Angeles PST
END:STANDARD
BEGIN:STANDARD
DTSTART:20251102T010000
RDATE:20260308T030000
TZOFFSETFROM:-0700
TZOFFSETTO:-0800
TZNAME:America/Los_Angeles PST
END:STANDARD
BEGIN:STANDARD
DTSTART:20261101T010000
RDATE:20270314T030000
TZOFFSETFROM:-0700
TZOFFSETTO:-0800
TZNAME:America/Los_Angeles PST
END:STANDARD
BEGIN:STANDARD
DTSTART:20271107T010000
RDATE:20280312T030000
TZOFFSETFROM:-0700
TZOFFSETTO:-0800
TZNAME:America/Los_Angeles PST
END:STANDARD
BEGIN:STANDARD
DTSTART:20281105T010000
RDATE:20290311T030000
TZOFFSETFROM:-0700
TZOFFSETTO:-0800
TZNAME:America/Los_Angeles PST
END:STANDARD
BEGIN:STANDARD
DTSTART:20291104T010000
RDATE:20300310T030000
TZOFFSETFROM:-0700
TZOFFSETTO:-0800
TZNAME:America/Los_Angeles PST
END:STANDARD
BEGIN:STANDARD
DTSTART:20301103T010000
RDATE:20310309T030000
TZOFFSETFROM:-0700
TZOFFSETTO:-0800
TZNAME:America/Los_Angeles PST
END:STANDARD
BEGIN:STANDARD
DTSTART:20311102T010000
RDATE:20320314T030000
TZOFFSETFROM:-0700
TZOFFSETTO:-0800
TZNAME:America/Los_Angeles PST
END:STANDARD
BEGIN:DAYLIGHT
DTSTART:20190310T030000
RDATE:20191103T010000
TZOFFSETFROM:-0800
TZOFFSETTO:-0700
TZNAME:America/Los_Angeles PDT
END:DAYLIGHT
BEGIN:DAYLIGHT
DTSTART:20200308T030000
RDATE:20201101T010000
TZOFFSETFROM:-0800
TZOFFSETTO:-0700
TZNAME:America/Los_Angeles PDT
END:DAYLIGHT
BEGIN:DAYLIGHT
DTSTART:20210314T030000
RDATE:20211107T010000
TZOFFSETFROM:-0800
TZOFFSETTO:-0700
TZNAME:America/Los_Angeles PDT
END:DAYLIGHT
BEGIN:DAYLIGHT
DTSTART:20220313T030000
RDATE:20221106T010000
TZOFFSETFROM:-0800
TZOFFSETTO:-0700
TZNAME:America/Los_Angeles PDT
END:DAYLIGHT
BEGIN:DAYLIGHT
DTSTART:20230312T030000
RDATE:20231105T010000
TZOFFSETFROM:-0800
TZOFFSETTO:-0700
TZNAME:America/Los_Angeles PDT
END:DAYLIGHT
BEGIN:DAYLIGHT
DTSTART:20240310T030000
RDATE:20241103T010000
TZOFFSETFROM:-0800
TZOFFSETTO:-0700
TZNAME:America/Los_Angeles PDT
END:DAYLIGHT
BEGIN:DAYLIGHT
DTSTART:20250309T030000
RDATE:20251102T010000
TZOFFSETFROM:-0800
TZOFFSETTO:-0700
TZNAME:America/Los_Angeles PDT
END:DAYLIGHT
BEGIN:DAYLIGHT
DTSTART:20260308T030000
RDATE:20261101T010000
TZOFFSETFROM:-0800
TZOFFSETTO:-0700
TZNAME:America/Los_Angeles PDT
END:DAYLIGHT
BEGIN:DAYLIGHT
DTSTART:20270314T030000
RDATE:20271107T010000
TZOFFSETFROM:-0800
TZOFFSETTO:-0700
TZNAME:America/Los_Angeles PDT
END:DAYLIGHT
BEGIN:DAYLIGHT
DTSTART:20280312T030000
RDATE:20281105T010000
TZOFFSETFROM:-0800
TZOFFSETTO:-0700
TZNAME:America/Los_Angeles PDT
END:DAYLIGHT
BEGIN:DAYLIGHT
DTSTART:20290311T030000
RDATE:20291104T010000
TZOFFSETFROM:-0800
TZOFFSETTO:-0700
TZNAME:America/Los_Angeles PDT
END:DAYLIGHT
BEGIN:DAYLIGHT
DTSTART:20300310T030000
RDATE:20301103T010000
TZOFFSETFROM:-0800
TZOFFSETTO:-0700
TZNAME:America/Los_Angeles PDT
END:DAYLIGHT
BEGIN:DAYLIGHT
DTSTART:20310309T030000
RDATE:20311102T010000
TZOFFSETFROM:-0800
TZOFFSETTO:-0700
TZNAME:America/Los_Angeles PDT
END:DAYLIGHT
END:VTIMEZONE
BEGIN:VEVENT
UID:565b9246cb4b369021a04b0bc125613a
CATEGORIES:Webinars
CREATED:20191023T191533
SUMMARY:OSHA Hazard Communication Standard 12-11-19
LOCATION:GoToWebinar
DESCRIPTION:<p><span class="text-highlight"><strong>Note</strong>: Times listed are US 
 Pacific Time zone. <em>Registration closes one-half hour before the start o
 f the webinar.</em></span></p><table><tbody><tr><td style="vertical-align: 
 top; padding-right: 10px;"><p>Learn about the new Hazard Communication Stan
 dard. This course covers label requirements, setting up and organizing your
  Safety Data Sheets, and your written hazard communication plans as require
 d by OSHA.<br /> <strong>WEBINARS count as Live Classroom CE Credit!</stron
 g></p><p>1 CE Credit -- $89.00<br /> <strong>CE Credits are only issued to 
 PAID attendees</strong></p></td><td style="vertical-align: top; width: 25%;
 ">{module [185]}</td></tr></tbody></table><h3>Buy the same-day bundle and s
 ave $53!!</h3><p>OSHA Bloodborne Pathogens + OSHA Hazard Communication Stan
 dard for <strong>$125</strong></p><div style="width: 180px; background-colo
 r: #e37f1c; border: 1px solid #1880AA; color: #ffffff; text-align: center; 
 padding: 3px;"><p><strong><a href="continuing-education/webinars/icalrepeat
 .detail/2019/12/11/207/-/bundle-osha-bloodborne-pathogens-hazard-communicat
 ion-standard" target="_blank" rel="noopener" style="color: #ffffff;">View a
 nd Buy the Bundle</a></strong></p></div>
X-ALT-DESC;FMTTYPE=text/html:<p><span class="text-highlight"><strong>Note</strong>: Times listed are US 
 Pacific Time zone. <em>Registration closes one-half hour before the start o
 f the webinar.</em></span></p><table><tbody><tr><td style="vertical-align: 
 top; padding-right: 10px;"><p>Learn about the new Hazard Communication Stan
 dard. This course covers label requirements, setting up and organizing your
  Safety Data Sheets, and your written hazard communication plans as require
 d by OSHA.<br /> <strong>WEBINARS count as Live Classroom CE Credit!</stron
 g></p><p>1 CE Credit -- $89.00<br /> <strong>CE Credits are only issued to 
 PAID attendees</strong></p></td><td style="vertical-align: top; width: 25%;
 ">{module [185]}</td></tr></tbody></table><h3>Buy the same-day bundle and s
 ave $53!!</h3><p>OSHA Bloodborne Pathogens + OSHA Hazard Communication Stan
 dard for <strong>$125</strong></p><div style="width: 180px; background-colo
 r: #e37f1c; border: 1px solid #1880AA; color: #ffffff; text-align: center; 
 padding: 3px;"><p><strong><a href="https://www.lesliecanham.com/continuing-
 education/webinars/icalrepeat.detail/2019/12/11/207/-/bundle-osha-bloodborn
 e-pathogens-hazard-communication-standard" target="_blank" rel="noopener" s
 tyle="color: #ffffff;">View and Buy the Bundle</a></strong></p></div>
CONTACT:This email address is being protected from spambots. You need JavaScript enabled to view it. or 209-785-3903
DTSTAMP:20260424T124405
DTSTART;TZID=America/Los_Angeles:20191211T130000
DTEND;TZID=America/Los_Angeles:20191211T140000
SEQUENCE:0
TRANSP:OPAQUE
END:VEVENT
END:VCALENDAR