BEGIN:VCALENDAR
VERSION:2.0
PRODID:-//jEvents 2.0 for Joomla//EN
CALSCALE:GREGORIAN
METHOD:PUBLISH
BEGIN:VTIMEZONE
TZID:America/Los_Angeles
BEGIN:STANDARD
DTSTART:20201101T010000
RDATE:20210314T030000
TZOFFSETFROM:-0700
TZOFFSETTO:-0800
TZNAME:America/Los_Angeles PST
END:STANDARD
BEGIN:STANDARD
DTSTART:20211107T010000
RDATE:20220313T030000
TZOFFSETFROM:-0700
TZOFFSETTO:-0800
TZNAME:America/Los_Angeles PST
END:STANDARD
BEGIN:STANDARD
DTSTART:20221106T010000
RDATE:20230312T030000
TZOFFSETFROM:-0700
TZOFFSETTO:-0800
TZNAME:America/Los_Angeles PST
END:STANDARD
BEGIN:STANDARD
DTSTART:20231105T010000
RDATE:20240310T030000
TZOFFSETFROM:-0700
TZOFFSETTO:-0800
TZNAME:America/Los_Angeles PST
END:STANDARD
BEGIN:STANDARD
DTSTART:20241103T010000
RDATE:20250309T030000
TZOFFSETFROM:-0700
TZOFFSETTO:-0800
TZNAME:America/Los_Angeles PST
END:STANDARD
BEGIN:STANDARD
DTSTART:20251102T010000
RDATE:20260308T030000
TZOFFSETFROM:-0700
TZOFFSETTO:-0800
TZNAME:America/Los_Angeles PST
END:STANDARD
BEGIN:STANDARD
DTSTART:20261101T010000
RDATE:20270314T030000
TZOFFSETFROM:-0700
TZOFFSETTO:-0800
TZNAME:America/Los_Angeles PST
END:STANDARD
BEGIN:STANDARD
DTSTART:20271107T010000
RDATE:20280312T030000
TZOFFSETFROM:-0700
TZOFFSETTO:-0800
TZNAME:America/Los_Angeles PST
END:STANDARD
BEGIN:STANDARD
DTSTART:20281105T010000
RDATE:20290311T030000
TZOFFSETFROM:-0700
TZOFFSETTO:-0800
TZNAME:America/Los_Angeles PST
END:STANDARD
BEGIN:STANDARD
DTSTART:20291104T010000
RDATE:20300310T030000
TZOFFSETFROM:-0700
TZOFFSETTO:-0800
TZNAME:America/Los_Angeles PST
END:STANDARD
BEGIN:STANDARD
DTSTART:20301103T010000
RDATE:20310309T030000
TZOFFSETFROM:-0700
TZOFFSETTO:-0800
TZNAME:America/Los_Angeles PST
END:STANDARD
BEGIN:STANDARD
DTSTART:20311102T010000
RDATE:20320314T030000
TZOFFSETFROM:-0700
TZOFFSETTO:-0800
TZNAME:America/Los_Angeles PST
END:STANDARD
BEGIN:DAYLIGHT
DTSTART:20200914T120000
RDATE:20201101T010000
TZOFFSETFROM:-0800
TZOFFSETTO:-0700
TZNAME:America/Los_Angeles PDT
END:DAYLIGHT
BEGIN:DAYLIGHT
DTSTART:20210314T030000
RDATE:20211107T010000
TZOFFSETFROM:-0800
TZOFFSETTO:-0700
TZNAME:America/Los_Angeles PDT
END:DAYLIGHT
BEGIN:DAYLIGHT
DTSTART:20220313T030000
RDATE:20221106T010000
TZOFFSETFROM:-0800
TZOFFSETTO:-0700
TZNAME:America/Los_Angeles PDT
END:DAYLIGHT
BEGIN:DAYLIGHT
DTSTART:20230312T030000
RDATE:20231105T010000
TZOFFSETFROM:-0800
TZOFFSETTO:-0700
TZNAME:America/Los_Angeles PDT
END:DAYLIGHT
BEGIN:DAYLIGHT
DTSTART:20240310T030000
RDATE:20241103T010000
TZOFFSETFROM:-0800
TZOFFSETTO:-0700
TZNAME:America/Los_Angeles PDT
END:DAYLIGHT
BEGIN:DAYLIGHT
DTSTART:20250309T030000
RDATE:20251102T010000
TZOFFSETFROM:-0800
TZOFFSETTO:-0700
TZNAME:America/Los_Angeles PDT
END:DAYLIGHT
BEGIN:DAYLIGHT
DTSTART:20260308T030000
RDATE:20261101T010000
TZOFFSETFROM:-0800
TZOFFSETTO:-0700
TZNAME:America/Los_Angeles PDT
END:DAYLIGHT
BEGIN:DAYLIGHT
DTSTART:20270314T030000
RDATE:20271107T010000
TZOFFSETFROM:-0800
TZOFFSETTO:-0700
TZNAME:America/Los_Angeles PDT
END:DAYLIGHT
BEGIN:DAYLIGHT
DTSTART:20280312T030000
RDATE:20281105T010000
TZOFFSETFROM:-0800
TZOFFSETTO:-0700
TZNAME:America/Los_Angeles PDT
END:DAYLIGHT
BEGIN:DAYLIGHT
DTSTART:20290311T030000
RDATE:20291104T010000
TZOFFSETFROM:-0800
TZOFFSETTO:-0700
TZNAME:America/Los_Angeles PDT
END:DAYLIGHT
BEGIN:DAYLIGHT
DTSTART:20300310T030000
RDATE:20301103T010000
TZOFFSETFROM:-0800
TZOFFSETTO:-0700
TZNAME:America/Los_Angeles PDT
END:DAYLIGHT
BEGIN:DAYLIGHT
DTSTART:20310309T030000
RDATE:20311102T010000
TZOFFSETFROM:-0800
TZOFFSETTO:-0700
TZNAME:America/Los_Angeles PDT
END:DAYLIGHT
END:VTIMEZONE
BEGIN:VEVENT
UID:a811f6e372bb06d36ec0adef6512361a
CATEGORIES:Webinars
CREATED:20210705T125355
SUMMARY:Aerosol Transmissible Diseases and Respiratory Protection for Dentistry
LOCATION:Webinar
DESCRIPTION:California laws require employers with employees exposed to aerosol transmi
 ssible diseases (ATD) to have effective written safety plans, provide prote
 ctive equipment as needed, and train employees onsafety procedures to meet 
 the requirements of the Cal/OSHA Aerosol Transmissible Diseases standard (C
 alifornia Code of Regulations, title 8, section 5199) to reduce the risk of
  ATD infection to their employees. Before COVID-19 dental practices were ex
 empt from this regulation if they complied with all of the above. Today, th
 e risk of employee exposure to COVID-19 exists and respiratory protection i
 s needed for aerosol generating procedures.\n - Meet Aerosol Transmissible 
 Disease training requirement\n - Create Personalize written safety plans\n 
 - Select appropriate Respiratory Protection\n - Understand Fit Testing requ
 irements
X-ALT-DESC;FMTTYPE=text/html:<div id="tmp_paragraph-37904" class="de elHeadlineWrapper ui-droppable de-e
 ditable hiddenElementTools" data-de-type="headline" data-de-editing="false"
  data-title="Paragraph" data-ce="true" data-trigger="none" data-animate="fa
 de" data-delay="500" aria-disabled="false"><div class="ne elHeadline hsSize
 1 lh5 elMargin0 elBGStyle0 hsTextShadow0 mfs_16" contenteditable="false" da
 ta-bold="inherit" data-gramm="false"><div>California laws require employers
  with employees exposed to aerosol transmissible diseases (ATD) to&nbsp;hav
 e effective written safety plans, provide protective equipment as needed, a
 nd train employees on</div><div>safety procedures to meet the requirements 
 of the Cal/OSHA Aerosol Transmissible Diseases standard&nbsp;(California Co
 de of Regulations, title 8, section 5199) to reduce the risk of ATD infecti
 on to their&nbsp;employees. Before COVID-19 dental practices were exempt fr
 om this regulation if they complied with all&nbsp;of the above. Today, the 
 risk of employee exposure to COVID-19 exists and respiratory protection is&
 nbsp;needed for aerosol generating procedures.</div></div></div><div id="tm
 p_list-38112" class="de elBullet elMargin0 ui-droppable mfs_16 de-editable"
  data-de-type="list" data-de-editing="false" data-title="icon bullet list" 
 data-ce="true" data-trigger="none" data-animate="fade" data-delay="500" dat
 a-gramm="false" aria-disabled="false"><ul class="ne elBulletList elBulletLi
 stNew elBulletList2 listBorder0" contenteditable="false" data-bold="inherit
 " data-gramm="false"><li>Meet Aerosol Transmissible Disease training requir
 ement</li><li>Create Personalize written safety plans</li><li>Select approp
 riate Respiratory Protection</li><li>Understand Fit Testing requirements</l
 i></ul></div>
CONTACT:https://programs.lesliecanham.com/reg-aerosol-transmitted-diseases
DTSTAMP:20260425T114649
DTSTART;TZID=America/Los_Angeles:20210915T120000
DTEND;TZID=America/Los_Angeles:20210915T130000
SEQUENCE:0
TRANSP:OPAQUE
END:VEVENT
END:VCALENDAR